BEGIN:VCALENDAR
VERSION:2.0
PRODID:-//ChamberMaster//Event Calendar 2.0//EN
METHOD:PUBLISH
X-PUBLISHED-TTL:P3D
REFRESH-INTERVAL:P3D
CALSCALE:GREGORIAN
BEGIN:VEVENT
DTSTART:20251021T120000Z
DTEND:20251022T133000Z
X-MICROSOFT-CDO-ALLDAYEVENT:FALSE
SUMMARY:AM BUZZ at Flex Desk 360
DESCRIPTION:AM BUZZ   at Flex Desk 360
X-ALT-DESC;FMTTYPE=text/html:AM BUZZ&nbsp\; &nbsp\;at Flex Desk 360
LOCATION:100 S. Garnett Street Henderson\, NC 27536
UID:e.1668.2222
SEQUENCE:3
DTSTAMP:20260426T002043Z
URL:https://business.hendersonvance.org/events/details/am-buzz-at-flex-desk-360-2222
END:VEVENT

END:VCALENDAR
