BEGIN:VCALENDAR
VERSION:2.0
PRODID:-//ChamberMaster//Event Calendar 2.0//EN
METHOD:PUBLISH
X-PUBLISHED-TTL:P3D
REFRESH-INTERVAL:P3D
CALSCALE:GREGORIAN
BEGIN:VEVENT
DTSTART:20260210T203000Z
DTEND:20260210T213000Z
X-MICROSOFT-CDO-ALLDAYEVENT:FALSE
SUMMARY:Non-Profit Engagement Meeting
DESCRIPTION:Henderson-Vance County Chamber of Commerce and Triangle North Healthcare Foundation invite you to attend an informational meeting catered to non-profits\, churches\, schools\, and/or businesses interested in learning more about the non-profits in your area.
X-ALT-DESC;FMTTYPE=text/html:Henderson-Vance County Chamber of Commerce and Triangle North Healthcare Foundation invite you to attend an informational meeting catered to non-profits\, churches\, schools\, and/or businesses interested in learning more about the non-profits in your area.
LOCATION:Perry Memorial Library - Farm Bureau Room 205 Breckenridge Steet\, Henderson
UID:e.1668.2241
SEQUENCE:3
DTSTAMP:20260425T191923Z
URL:https://business.hendersonvance.org/events/details/non-profit-engagement-meeting-2241
END:VEVENT

END:VCALENDAR
