BEGIN:VCALENDAR
VERSION:2.0
PRODID:-//ChamberMaster//Event Calendar 2.0//EN
METHOD:PUBLISH
X-PUBLISHED-TTL:P3D
REFRESH-INTERVAL:P3D
CALSCALE:GREGORIAN
BEGIN:VEVENT
DTSTART:20260128T050000Z
DTEND:20260128T183000Z
X-MICROSOFT-CDO-ALLDAYEVENT:FALSE
SUMMARY:Women In Business Lunch & Learn
DESCRIPTION:Women In Business Lunch & Learn\n\n"From the Crown to the Community" with presenter Miss North Carolina\, Sophia Kellstrom
X-ALT-DESC;FMTTYPE=text/html:Women In Business Lunch &amp\; Learn<br />\n&quot\;From the Crown to the Community&quot\; with presenter Miss North Carolina\, Sophia Kellstrom
LOCATION:Henderson Country Club 300 Country Club Drive\, Henderson
UID:e.1668.2240
SEQUENCE:3
DTSTAMP:20260425T191557Z
URL:https://business.hendersonvance.org/events/details/women-in-business-lunch-learn-2240
END:VEVENT

END:VCALENDAR
